BEGIN:VCALENDAR
VERSION:2.0
PRODID:-//Förderverein Feriendorf Eisenberg e.V. - ECPv6.8.2.1//NONSGML v1.0//EN
CALSCALE:GREGORIAN
METHOD:PUBLISH
X-WR-CALNAME:Förderverein Feriendorf Eisenberg e.V.
X-ORIGINAL-URL:https://ffe.duka-hannover.de
X-WR-CALDESC:Veranstaltungen für Förderverein Feriendorf Eisenberg e.V.
REFRESH-INTERVAL;VALUE=DURATION:PT1H
X-Robots-Tag:noindex
X-PUBLISHED-TTL:PT1H
BEGIN:VTIMEZONE
TZID:Europe/Berlin
BEGIN:DAYLIGHT
TZOFFSETFROM:+0100
TZOFFSETTO:+0200
TZNAME:CEST
DTSTART:20240331T010000
END:DAYLIGHT
BEGIN:STANDARD
TZOFFSETFROM:+0200
TZOFFSETTO:+0100
TZNAME:CET
DTSTART:20241027T010000
END:STANDARD
END:VTIMEZONE
BEGIN:VEVENT
DTSTART;TZID=Europe/Berlin:20241212T140000
DTEND;TZID=Europe/Berlin:20241224T170000
DTSTAMP:20260421T112212
CREATED:20240503T082147Z
LAST-MODIFIED:20241109T103533Z
UID:104-1734012000-1735059600@ffe.duka-hannover.de
SUMMARY:Basar Spielpark
DESCRIPTION:Second-Hand-Basare für Baby- und Kleinkindartikel\n\n\n\n\n\n\n\n\n\nZweimal im Jahr veranstaltet der Förderverein Feriendorf Eisenberg e.V.\, auf dem Gelände des Spielpark Tiefenriede\, einen Second-Hand-Basar für Baby- und Kleinkindartikel.\n2005 haben wir diese Veranstaltung mit einer Gesamtgröße von 15 Tischen ins Leben gerufen\, doch mit der Zeit ist sie auf über 45 Tischen angewachsen. Somit ist regelmäßig ein großes Angebot garantiert und das Vorbeikommen lohnt sich. \nSo können Sie hier im Spielpark gemütlich durch die überdachten Verkaufsstände schlendern\, während sich Ihre Kinder auf dem weitläufigen Gelände mit vielen Spielanlagen und Tobeflächen vergnügen können. Des Weiteren bieten wir Ihnen eine große Auswahl selbstgebackener Kuchen\, frischer Waffeln sowie heißen und kalten Getränken zu familiären Preisen an. Die Erlöse davon kommen dem Feriendorf Eisenberg „Günther Richta“ zugute. \n\n\n\n\n\n\n\n\n\nInformationen für VerkäuferInnen\n\n\n\n\n\n\n\n\n\nWenn Sie auf unserem Basar auch einen Stand als Verkäufer reservieren möchten\, beachten Sie bitte folgende Punkte: \nBasar im Spielpark: \n\nEin Tisch (ca. 2\,20m x 0\,50m) auf der überdachten Fläche kostet 5 Euro Reservierungsgebühr sowie einen selbstgebackenen Kuchen.\nReservierungen sind ca. 1 Monat vor der jeweiligen Veranstaltung möglich. Den genauen Zeitpunkt der Reservierungsmöglichkeit erfahren Sie per Email\, wenn sie sich in unseren Verteiler aufnehmen lassen.\nSollten alle Tische schon vergeben sein\, haben sie die Möglichkeit\, einen selbst mitgebrachten Tisch\, auf der Freifläche – für 5 Euro – aufzustellen.\nDie Reservierung wird erst mit Eingang des Geldbetrages gültig.\nRückerstattung der Reservierungsgebühr nach Abmeldung ist nur möglich\, wenn diese Mitteilung mindestens 3 Tage vor dem Basar bei uns eingeht.\nFördervereinsmitgliedern  wird Vorrang bei den Tischreservierungen gewährt.\nEs besteht grundsätzlich kein Anspruch auf einen Tisch! Es zählt die Reihenfolge der eintreffenden Reservierungen.\nDer Aufbau der Stände ist zwischen 12:00 Uhr und 13:30 Uhr möglich.
URL:https://ffe.duka-hannover.de/event/basar/
LOCATION:Spielpark Tiefenriede\, Haspelfelder Weg 1ß\, Hannover\, 30173\, Deutschland
CATEGORIES:Basar
ATTACH;FMTTYPE=image/png:https://ffe.duka-hannover.de/wp-content/uploads/2024/04/Second-Hand-Basar-fuer-Kindersachen.png
ORGANIZER;CN="F%C3%B6rderverein Feriendorf Eisenberg":MAILTO:andreas.ohrdorf@foerderverein-eisenberg.de
END:VEVENT
END:VCALENDAR